BEGIN:VCALENDAR
VERSION:2.0
PRODID:-//Tukios.com/
BEGIN:VEVENT
UID:426aded6-c306-4f86-a0bf-c5fecb1cbf57@www.thegardensfuneralhome.com
DTSTAMP:20260422T012010Z
DTSTART:20260425T203000Z
DTEND:20260425T223000Z
SUMMARY:Visitation
DESCRIPTION:Celebration of Life
URL:https://www.thegardensfuneralhome.com/obituaries/arthur-peel
LOCATION: 2949 Austin Hwy  Fallon NV 89406
GEO:39.477002;-118.724039
END:VEVENT
END:VCALENDAR